BEGIN:VCALENDAR
VERSION:2.0
PRODID:-//Oregon Child Abuse Solutions - ECPv6.15.18//NONSGML v1.0//EN
CALSCALE:GREGORIAN
METHOD:PUBLISH
X-ORIGINAL-URL:https://oregoncas.org
X-WR-CALDESC:Events for Oregon Child Abuse Solutions
REFRESH-INTERVAL;VALUE=DURATION:PT1H
X-Robots-Tag:noindex
X-PUBLISHED-TTL:PT1H
BEGIN:VTIMEZONE
TZID:America/Los_Angeles
BEGIN:DAYLIGHT
TZOFFSETFROM:-0800
TZOFFSETTO:-0700
TZNAME:PDT
DTSTART:20250309T100000
END:DAYLIGHT
BEGIN:STANDARD
TZOFFSETFROM:-0700
TZOFFSETTO:-0800
TZNAME:PST
DTSTART:20251102T090000
END:STANDARD
BEGIN:DAYLIGHT
TZOFFSETFROM:-0800
TZOFFSETTO:-0700
TZNAME:PDT
DTSTART:20260308T100000
END:DAYLIGHT
BEGIN:STANDARD
TZOFFSETFROM:-0700
TZOFFSETTO:-0800
TZNAME:PST
DTSTART:20261101T090000
END:STANDARD
BEGIN:DAYLIGHT
TZOFFSETFROM:-0800
TZOFFSETTO:-0700
TZNAME:PDT
DTSTART:20270314T100000
END:DAYLIGHT
BEGIN:STANDARD
TZOFFSETFROM:-0700
TZOFFSETTO:-0800
TZNAME:PST
DTSTART:20271107T090000
END:STANDARD
END:VTIMEZONE
BEGIN:VEVENT
DTSTART;TZID=America/Los_Angeles:20260603T090000
DTEND;TZID=America/Los_Angeles:20260603T110000
DTSTAMP:20260414T051048
CREATED:20260409T174059Z
LAST-MODIFIED:20260409T174059Z
UID:1928-1780477200-1780484400@oregoncas.org
SUMMARY:[St. Helens] Community Café
DESCRIPTION:Meet together with friends and neighbors to enjoy a delicious free breakfast and receive support and resources focused on uplifting our community’s children to be happy\, healthy\, and safe.
URL:https://oregoncas.org/event/sthelens-june3/
LOCATION:St. Helens Head Start\, 2750 Columbia Blvd\, St. Helens\, OR\, 97051\, United States
CATEGORIES:Amani Center,Community,Free
ORGANIZER;CN="Amani Center":MAILTO:info@amanicenter.org
END:VEVENT
BEGIN:VEVENT
DTSTART;TZID=America/Los_Angeles:20260605T180000
DTEND;TZID=America/Los_Angeles:20260605T200000
DTSTAMP:20260414T051048
CREATED:20260409T173104Z
LAST-MODIFIED:20260409T173104Z
UID:1918-1780682400-1780689600@oregoncas.org
SUMMARY:[Rainier] Weekly Bingo
DESCRIPTION:Join Amani Center every Friday night at 6PM for weekly Bingo and your chance to win $$ while supporting them.
URL:https://oregoncas.org/event/rainier-june5/
LOCATION:Ol’ Pastime Tavern\, 105 E A St\, Rainier\, OR\, 97048\, United States
CATEGORIES:Amani Center,Fundraisers
ORGANIZER;CN="Amani Center":MAILTO:info@amanicenter.org
END:VEVENT
BEGIN:VEVENT
DTSTART;TZID=America/Los_Angeles:20260610T173000
DTEND;TZID=America/Los_Angeles:20260610T200000
DTSTAMP:20260414T051048
CREATED:20260409T174331Z
LAST-MODIFIED:20260409T174331Z
UID:1930-1781112600-1781121600@oregoncas.org
SUMMARY:[St. Helens] Café con Padres
DESCRIPTION:Ven a reconectar con tus vecinos o conocer a nuevos.
URL:https://oregoncas.org/event/sthelens-june10/
LOCATION:St. Helens Community Center\, 2625 Gable Rd\, St. Helens\, OR\, 97051\, United States
CATEGORIES:Amani Center,Community,en Español,Free
ORGANIZER;CN="Amani Center":MAILTO:info@amanicenter.org
END:VEVENT
BEGIN:VEVENT
DTSTART;TZID=America/Los_Angeles:20260612T180000
DTEND;TZID=America/Los_Angeles:20260612T200000
DTSTAMP:20260414T051048
CREATED:20260409T173246Z
LAST-MODIFIED:20260409T173246Z
UID:1920-1781287200-1781294400@oregoncas.org
SUMMARY:[Rainier] Weekly Bingo
DESCRIPTION:Join Amani Center every Friday night at 6PM for weekly Bingo and your chance to win $$ while supporting them.
URL:https://oregoncas.org/event/rainier-apr12/
LOCATION:Ol’ Pastime Tavern\, 105 E A St\, Rainier\, OR\, 97048\, United States
CATEGORIES:Amani Center,Fundraisers
ORGANIZER;CN="Amani Center":MAILTO:info@amanicenter.org
END:VEVENT
BEGIN:VEVENT
DTSTART;TZID=America/Los_Angeles:20260615T180000
DTEND;TZID=America/Los_Angeles:20260615T200000
DTSTAMP:20260414T051048
CREATED:20260409T173843Z
LAST-MODIFIED:20260409T173843Z
UID:1926-1781546400-1781553600@oregoncas.org
SUMMARY:[Rainier] Monthly Bunco
DESCRIPTION:Win Prizes \n\nMost Buncos $50.00 gift card\nMost Wins $25.00 gift card\nMost Losses $25.00 gift card
URL:https://oregoncas.org/event/rainier-june15/
LOCATION:Ol’ Pastime Tavern\, 105 E A St\, Rainier\, OR\, 97048\, United States
CATEGORIES:Amani Center,Fundraisers
ORGANIZER;CN="Amani Center":MAILTO:info@amanicenter.org
END:VEVENT
BEGIN:VEVENT
DTSTART;TZID=America/Los_Angeles:20260619T180000
DTEND;TZID=America/Los_Angeles:20260619T200000
DTSTAMP:20260414T051048
CREATED:20260409T173437Z
LAST-MODIFIED:20260409T173437Z
UID:1922-1781892000-1781899200@oregoncas.org
SUMMARY:[Rainier] Weekly Bingo
DESCRIPTION:Join Amani Center every Friday night at 6PM for weekly Bingo and your chance to win $$ while supporting them.
URL:https://oregoncas.org/event/rainier-apr19/
LOCATION:Ol’ Pastime Tavern\, 105 E A St\, Rainier\, OR\, 97048\, United States
CATEGORIES:Amani Center,Fundraisers
ORGANIZER;CN="Amani Center":MAILTO:info@amanicenter.org
END:VEVENT
BEGIN:VEVENT
DTSTART;TZID=America/Los_Angeles:20260626T180000
DTEND;TZID=America/Los_Angeles:20260626T200000
DTSTAMP:20260414T051048
CREATED:20260409T173608Z
LAST-MODIFIED:20260409T173608Z
UID:1924-1782496800-1782504000@oregoncas.org
SUMMARY:[Rainier] Weekly Bingo
DESCRIPTION:Join Amani Center every Friday night at 6PM for weekly Bingo and your chance to win $$ while supporting them.
URL:https://oregoncas.org/event/rainier-apr26/
LOCATION:Ol’ Pastime Tavern\, 105 E A St\, Rainier\, OR\, 97048\, United States
CATEGORIES:Amani Center,Fundraisers
ORGANIZER;CN="Amani Center":MAILTO:info@amanicenter.org
END:VEVENT
END:VCALENDAR