BEGIN:VCALENDAR
VERSION:2.0
PRODID:-//Oregon Child Abuse Solutions - ECPv6.15.18//NONSGML v1.0//EN
CALSCALE:GREGORIAN
METHOD:PUBLISH
X-WR-CALNAME:Oregon Child Abuse Solutions
X-ORIGINAL-URL:https://oregoncas.org
X-WR-CALDESC:Events for Oregon Child Abuse Solutions
REFRESH-INTERVAL;VALUE=DURATION:PT1H
X-Robots-Tag:noindex
X-PUBLISHED-TTL:PT1H
BEGIN:VTIMEZONE
TZID:America/Los_Angeles
BEGIN:DAYLIGHT
TZOFFSETFROM:-0800
TZOFFSETTO:-0700
TZNAME:PDT
DTSTART:20250309T100000
END:DAYLIGHT
BEGIN:STANDARD
TZOFFSETFROM:-0700
TZOFFSETTO:-0800
TZNAME:PST
DTSTART:20251102T090000
END:STANDARD
BEGIN:DAYLIGHT
TZOFFSETFROM:-0800
TZOFFSETTO:-0700
TZNAME:PDT
DTSTART:20260308T100000
END:DAYLIGHT
BEGIN:STANDARD
TZOFFSETFROM:-0700
TZOFFSETTO:-0800
TZNAME:PST
DTSTART:20261101T090000
END:STANDARD
BEGIN:DAYLIGHT
TZOFFSETFROM:-0800
TZOFFSETTO:-0700
TZNAME:PDT
DTSTART:20270314T100000
END:DAYLIGHT
BEGIN:STANDARD
TZOFFSETFROM:-0700
TZOFFSETTO:-0800
TZNAME:PST
DTSTART:20271107T090000
END:STANDARD
END:VTIMEZONE
BEGIN:VEVENT
DTSTART;TZID=America/Los_Angeles:20260325T050000
DTEND;TZID=America/Los_Angeles:20260325T200000
DTSTAMP:20260415T123335
CREATED:20260319T044042Z
LAST-MODIFIED:20260319T044042Z
UID:1766-1774414800-1774468800@oregoncas.org
SUMMARY:[Clackamas] Black Rock Children's Center Fundraiser
DESCRIPTION:$2 from every drink will go directly toward creating brighter futures for the children in the community
URL:https://oregoncas.org/event/clackamas-mar25/
LOCATION:Black Rock Coffee Bar\, 16138 SE 82nd Dr\, Clackamas\, OR\, 97015\, United States
CATEGORIES:Children's Center,Fundraisers
ORGANIZER;CN="Children's Center":MAILTO:office@childrenscenter.cc
END:VEVENT
END:VCALENDAR