BEGIN:VCALENDAR
VERSION:2.0
PRODID:-//Oregon Child Abuse Solutions - ECPv6.15.18//NONSGML v1.0//EN
CALSCALE:GREGORIAN
METHOD:PUBLISH
X-WR-CALNAME:Oregon Child Abuse Solutions
X-ORIGINAL-URL:https://oregoncas.org
X-WR-CALDESC:Events for Oregon Child Abuse Solutions
REFRESH-INTERVAL;VALUE=DURATION:PT1H
X-Robots-Tag:noindex
X-PUBLISHED-TTL:PT1H
BEGIN:VTIMEZONE
TZID:America/Los_Angeles
BEGIN:DAYLIGHT
TZOFFSETFROM:-0800
TZOFFSETTO:-0700
TZNAME:PDT
DTSTART:20250309T100000
END:DAYLIGHT
BEGIN:STANDARD
TZOFFSETFROM:-0700
TZOFFSETTO:-0800
TZNAME:PST
DTSTART:20251102T090000
END:STANDARD
BEGIN:DAYLIGHT
TZOFFSETFROM:-0800
TZOFFSETTO:-0700
TZNAME:PDT
DTSTART:20260308T100000
END:DAYLIGHT
BEGIN:STANDARD
TZOFFSETFROM:-0700
TZOFFSETTO:-0800
TZNAME:PST
DTSTART:20261101T090000
END:STANDARD
BEGIN:DAYLIGHT
TZOFFSETFROM:-0800
TZOFFSETTO:-0700
TZNAME:PDT
DTSTART:20270314T100000
END:DAYLIGHT
BEGIN:STANDARD
TZOFFSETFROM:-0700
TZOFFSETTO:-0800
TZNAME:PST
DTSTART:20271107T090000
END:STANDARD
END:VTIMEZONE
BEGIN:VEVENT
DTSTART;TZID=America/Los_Angeles:20260414T153000
DTEND;TZID=America/Los_Angeles:20260414T173000
DTSTAMP:20260415T042246
CREATED:20260409T165325Z
LAST-MODIFIED:20260409T165325Z
UID:1906-1776180600-1776187800@oregoncas.org
SUMMARY:[Oregon City] Healthy Outcomes from Positive Experiences
DESCRIPTION:Please join the Children’s Center Prevention Program and the Safe Kids Coalition for Clackamas County at our upcoming quarterly networking and learning event.
URL:https://oregoncas.org/event/oregoncity-apr14/
LOCATION:Providence Willamette Falls Community Center\, 519 15th St\, Oregon City\, OR\, 97045\, United States
CATEGORIES:Children's Center,Free,Trainings
ORGANIZER;CN="Children's Center":MAILTO:office@childrenscenter.cc
END:VEVENT
END:VCALENDAR