BEGIN:VCALENDAR
VERSION:2.0
PRODID:-//Oregon Child Abuse Solutions - ECPv6.15.18//NONSGML v1.0//EN
CALSCALE:GREGORIAN
METHOD:PUBLISH
X-ORIGINAL-URL:https://oregoncas.org
X-WR-CALDESC:Events for Oregon Child Abuse Solutions
REFRESH-INTERVAL;VALUE=DURATION:PT1H
X-Robots-Tag:noindex
X-PUBLISHED-TTL:PT1H
BEGIN:VTIMEZONE
TZID:America/Los_Angeles
BEGIN:DAYLIGHT
TZOFFSETFROM:-0800
TZOFFSETTO:-0700
TZNAME:PDT
DTSTART:20250309T100000
END:DAYLIGHT
BEGIN:STANDARD
TZOFFSETFROM:-0700
TZOFFSETTO:-0800
TZNAME:PST
DTSTART:20251102T090000
END:STANDARD
BEGIN:DAYLIGHT
TZOFFSETFROM:-0800
TZOFFSETTO:-0700
TZNAME:PDT
DTSTART:20260308T100000
END:DAYLIGHT
BEGIN:STANDARD
TZOFFSETFROM:-0700
TZOFFSETTO:-0800
TZNAME:PST
DTSTART:20261101T090000
END:STANDARD
BEGIN:DAYLIGHT
TZOFFSETFROM:-0800
TZOFFSETTO:-0700
TZNAME:PDT
DTSTART:20270314T100000
END:DAYLIGHT
BEGIN:STANDARD
TZOFFSETFROM:-0700
TZOFFSETTO:-0800
TZNAME:PST
DTSTART:20271107T090000
END:STANDARD
END:VTIMEZONE
BEGIN:VEVENT
DTSTART;TZID=America/Los_Angeles:20260414T160000
DTEND;TZID=America/Los_Angeles:20260414T180000
DTSTAMP:20260416T183337
CREATED:20260409T163013Z
LAST-MODIFIED:20260409T163013Z
UID:1896-1776182400-1776189600@oregoncas.org
SUMMARY:[Portland] Morrison Bridge Lighting
DESCRIPTION:Prevent Child Abuse Oregon invites you to come check out the blue lights during a family-friendly gathering under the Morrison Bridge to celebrate our communities\, families\, and children of Oregon! ⁠They will be gathered under the west end of the Morrison Bridge between Naito Parkway Road and Waterfront Trail⁠.
URL:https://oregoncas.org/event/portland-apr14/
LOCATION:Morrison Bridge
CATEGORIES:Community,Family Fun,Free
ORGANIZER;CN="Prevent Child Abuse Oregon":MAILTO:info@preventchildabuseoregon.org
END:VEVENT
END:VCALENDAR