BEGIN:VCALENDAR
VERSION:2.0
PRODID:-//Oregon Child Abuse Solutions - ECPv6.15.18//NONSGML v1.0//EN
CALSCALE:GREGORIAN
METHOD:PUBLISH
X-WR-CALNAME:Oregon Child Abuse Solutions
X-ORIGINAL-URL:https://oregoncas.org
X-WR-CALDESC:Events for Oregon Child Abuse Solutions
REFRESH-INTERVAL;VALUE=DURATION:PT1H
X-Robots-Tag:noindex
X-PUBLISHED-TTL:PT1H
BEGIN:VTIMEZONE
TZID:America/Los_Angeles
BEGIN:DAYLIGHT
TZOFFSETFROM:-0800
TZOFFSETTO:-0700
TZNAME:PDT
DTSTART:20250309T100000
END:DAYLIGHT
BEGIN:STANDARD
TZOFFSETFROM:-0700
TZOFFSETTO:-0800
TZNAME:PST
DTSTART:20251102T090000
END:STANDARD
BEGIN:DAYLIGHT
TZOFFSETFROM:-0800
TZOFFSETTO:-0700
TZNAME:PDT
DTSTART:20260308T100000
END:DAYLIGHT
BEGIN:STANDARD
TZOFFSETFROM:-0700
TZOFFSETTO:-0800
TZNAME:PST
DTSTART:20261101T090000
END:STANDARD
BEGIN:DAYLIGHT
TZOFFSETFROM:-0800
TZOFFSETTO:-0700
TZNAME:PDT
DTSTART:20270314T100000
END:DAYLIGHT
BEGIN:STANDARD
TZOFFSETFROM:-0700
TZOFFSETTO:-0800
TZNAME:PST
DTSTART:20271107T090000
END:STANDARD
END:VTIMEZONE
BEGIN:VEVENT
DTSTART;TZID=America/Los_Angeles:20260501T170000
DTEND;TZID=America/Los_Angeles:20260501T220000
DTSTAMP:20260421T050123
CREATED:20260320T012620Z
LAST-MODIFIED:20260320T012620Z
UID:1781-1777654800-1777672800@oregoncas.org
SUMMARY:[Carlton] Celebrate the Children
DESCRIPTION:Celebrate the Children is Juliette’s House’s annual fundraising auction\, bringing our community together to champion child abuse prevention and healing.
URL:https://oregoncas.org/event/carlton-may1/
LOCATION:Abbey Road Farm\, 10280 NE Oak Springs Farm Rd\, Carlton\, OR\, 97111\, United States
CATEGORIES:Fundraisers,Juliette's House
ORGANIZER;CN="Juliette%E2%80%99s House":MAILTO:info@julietteshouse.org
END:VEVENT
BEGIN:VEVENT
DTSTART;TZID=America/Los_Angeles:20260501T180000
DTEND;TZID=America/Los_Angeles:20260501T200000
DTSTAMP:20260421T050123
CREATED:20260326T032628Z
LAST-MODIFIED:20260326T032628Z
UID:1837-1777658400-1777665600@oregoncas.org
SUMMARY:[Rainier] Weekly Bingo
DESCRIPTION:Join Amani Center every Friday night at 6PM for weekly Bingo and your chance to win $$ while supporting them.
URL:https://oregoncas.org/event/rainier-may1/
LOCATION:Ol’ Pastime Tavern\, 105 E A St\, Rainier\, OR\, 97048\, United States
CATEGORIES:Amani Center,Fundraisers
ORGANIZER;CN="Amani Center":MAILTO:info@amanicenter.org
END:VEVENT
BEGIN:VEVENT
DTSTART;TZID=America/Los_Angeles:20260508T180000
DTEND;TZID=America/Los_Angeles:20260508T200000
DTSTAMP:20260421T050123
CREATED:20260326T032756Z
LAST-MODIFIED:20260326T032756Z
UID:1839-1778263200-1778270400@oregoncas.org
SUMMARY:[Rainier] Weekly Bingo
DESCRIPTION:Join Amani Center every Friday night at 6PM for weekly Bingo and your chance to win $$ while supporting them.
URL:https://oregoncas.org/event/rainier-may8/
LOCATION:Ol’ Pastime Tavern\, 105 E A St\, Rainier\, OR\, 97048\, United States
CATEGORIES:Amani Center,Fundraisers
ORGANIZER;CN="Amani Center":MAILTO:info@amanicenter.org
END:VEVENT
BEGIN:VEVENT
DTSTART;TZID=America/Los_Angeles:20260515T180000
DTEND;TZID=America/Los_Angeles:20260515T200000
DTSTAMP:20260421T050123
CREATED:20260326T032904Z
LAST-MODIFIED:20260326T032904Z
UID:1841-1778868000-1778875200@oregoncas.org
SUMMARY:[Rainier] Weekly Bingo
DESCRIPTION:Join Amani Center every Friday night at 6PM for weekly Bingo and your chance to win $$ while supporting them.
URL:https://oregoncas.org/event/rainier-may15/
LOCATION:Ol’ Pastime Tavern\, 105 E A St\, Rainier\, OR\, 97048\, United States
CATEGORIES:Amani Center,Fundraisers
ORGANIZER;CN="Amani Center":MAILTO:info@amanicenter.org
END:VEVENT
BEGIN:VEVENT
DTSTART;TZID=America/Los_Angeles:20260516T140000
DTEND;TZID=America/Los_Angeles:20260516T170000
DTSTAMP:20260421T050123
CREATED:20260326T025839Z
LAST-MODIFIED:20260326T030002Z
UID:1820-1778940000-1778950800@oregoncas.org
SUMMARY:[Rainier] .3K Slacker Run
DESCRIPTION:The only “race” where the training regimen consists entirely of professional-grade couch surfing and mastering the art of the remote control.
URL:https://oregoncas.org/event/rainier-may16/
LOCATION:Ol’ Pastime Tavern\, 105 E A St\, Rainier\, OR\, 97048\, United States
CATEGORIES:Amani Center,Fundraisers,Run
ORGANIZER;CN="Amani Center":MAILTO:info@amanicenter.org
END:VEVENT
BEGIN:VEVENT
DTSTART;TZID=America/Los_Angeles:20260516T170000
DTEND;TZID=America/Los_Angeles:20260516T200000
DTSTAMP:20260421T050123
CREATED:20260326T030536Z
LAST-MODIFIED:20260420T221354Z
UID:1822-1778950800-1778961600@oregoncas.org
SUMMARY:[Gold Beach] Rubies & Wranglers
DESCRIPTION:Wally’s House biggest fundraiser of the year.
URL:https://oregoncas.org/event/goldbeach-may16/
LOCATION:Curry County Fairground Docia Sweet\, 29392 Ellensburg Ave\, Gold Beach\, OR\, 97444\, United States
CATEGORIES:Fundraisers,Wally's House
ORGANIZER;CN="Wally's House":MAILTO:director@wallyshouse.org
END:VEVENT
BEGIN:VEVENT
DTSTART;TZID=America/Los_Angeles:20260518T180000
DTEND;TZID=America/Los_Angeles:20260518T200000
DTSTAMP:20260421T050123
CREATED:20260326T032415Z
LAST-MODIFIED:20260326T032415Z
UID:1835-1779127200-1779134400@oregoncas.org
SUMMARY:[Rainier] Monthly Bunco
DESCRIPTION:Win Prizes \n\nMost Buncos $50.00 gift card\nMost Wins $25.00 gift card\nMost Losses $25.00 gift card
URL:https://oregoncas.org/event/rainier-may18/
LOCATION:Ol’ Pastime Tavern\, 105 E A St\, Rainier\, OR\, 97048\, United States
CATEGORIES:Amani Center,Fundraisers
ORGANIZER;CN="Amani Center":MAILTO:info@amanicenter.org
END:VEVENT
BEGIN:VEVENT
DTSTART;TZID=America/Los_Angeles:20260522T180000
DTEND;TZID=America/Los_Angeles:20260522T200000
DTSTAMP:20260421T050123
CREATED:20260326T033019Z
LAST-MODIFIED:20260326T033019Z
UID:1843-1779472800-1779480000@oregoncas.org
SUMMARY:[Rainier] Weekly Bingo
DESCRIPTION:Join Amani Center every Friday night at 6PM for weekly Bingo and your chance to win $$ while supporting them.
URL:https://oregoncas.org/event/rainier-may22/
LOCATION:Ol’ Pastime Tavern\, 105 E A St\, Rainier\, OR\, 97048\, United States
CATEGORIES:Amani Center,Fundraisers
ORGANIZER;CN="Amani Center":MAILTO:info@amanicenter.org
END:VEVENT
BEGIN:VEVENT
DTSTART;TZID=America/Los_Angeles:20260524T093000
DTEND;TZID=America/Los_Angeles:20260524T120000
DTSTAMP:20260421T050123
CREATED:20260326T031520Z
LAST-MODIFIED:20260326T031520Z
UID:1828-1779615000-1779624000@oregoncas.org
SUMMARY:[Bend] Not'cho Grandma's Bingo
DESCRIPTION:KIDS Center is hosting Not’cho Grandma’s BINGO!
URL:https://oregoncas.org/event/bend-may24/
LOCATION:Silver Moon Brewing\, 24 NW Greenwood Ave\, Bend\, OR\, 97703\, United States
CATEGORIES:Fundraisers,KIDS Center
ORGANIZER;CN="KIDS Center":MAILTO:info@kidscenter.org
END:VEVENT
BEGIN:VEVENT
DTSTART;TZID=America/Los_Angeles:20260529T180000
DTEND;TZID=America/Los_Angeles:20260529T200000
DTSTAMP:20260421T050123
CREATED:20260326T033140Z
LAST-MODIFIED:20260326T033140Z
UID:1845-1780077600-1780084800@oregoncas.org
SUMMARY:[Rainier] Weekly Bingo
DESCRIPTION:Join Amani Center every Friday night at 6PM for weekly Bingo and your chance to win $$ while supporting them.
URL:https://oregoncas.org/event/rainier-may29/
LOCATION:Ol’ Pastime Tavern\, 105 E A St\, Rainier\, OR\, 97048\, United States
CATEGORIES:Amani Center,Fundraisers
ORGANIZER;CN="Amani Center":MAILTO:info@amanicenter.org
END:VEVENT
END:VCALENDAR