BEGIN:VCALENDAR
VERSION:2.0
PRODID:-//Oregon Child Abuse Solutions - ECPv6.15.18//NONSGML v1.0//EN
CALSCALE:GREGORIAN
METHOD:PUBLISH
X-ORIGINAL-URL:https://oregoncas.org
X-WR-CALDESC:Events for Oregon Child Abuse Solutions
REFRESH-INTERVAL;VALUE=DURATION:PT1H
X-Robots-Tag:noindex
X-PUBLISHED-TTL:PT1H
BEGIN:VTIMEZONE
TZID:America/Los_Angeles
BEGIN:DAYLIGHT
TZOFFSETFROM:-0800
TZOFFSETTO:-0700
TZNAME:PDT
DTSTART:20250309T100000
END:DAYLIGHT
BEGIN:STANDARD
TZOFFSETFROM:-0700
TZOFFSETTO:-0800
TZNAME:PST
DTSTART:20251102T090000
END:STANDARD
BEGIN:DAYLIGHT
TZOFFSETFROM:-0800
TZOFFSETTO:-0700
TZNAME:PDT
DTSTART:20260308T100000
END:DAYLIGHT
BEGIN:STANDARD
TZOFFSETFROM:-0700
TZOFFSETTO:-0800
TZNAME:PST
DTSTART:20261101T090000
END:STANDARD
BEGIN:DAYLIGHT
TZOFFSETFROM:-0800
TZOFFSETTO:-0700
TZNAME:PDT
DTSTART:20270314T100000
END:DAYLIGHT
BEGIN:STANDARD
TZOFFSETFROM:-0700
TZOFFSETTO:-0800
TZNAME:PST
DTSTART:20271107T090000
END:STANDARD
END:VTIMEZONE
BEGIN:VEVENT
DTSTART;TZID=America/Los_Angeles:20260602T173000
DTEND;TZID=America/Los_Angeles:20260602T183000
DTSTAMP:20260421T021105
CREATED:20260409T171830Z
LAST-MODIFIED:20260409T171830Z
UID:1916-1780421400-1780425000@oregoncas.org
SUMMARY:[Salem] Liberty House Community Tour
DESCRIPTION:Come learn more about Liberty House’s services first-hand and see how your support is changing lives!
URL:https://oregoncas.org/event/salem-june2/
LOCATION:Liberty House\, 2685 4th St NE\, Salem\, OR\, 97301\, United States
CATEGORIES:Free,Liberty House,Tours
END:VEVENT
BEGIN:VEVENT
DTSTART;TZID=America/Los_Angeles:20260609T110000
DTEND;TZID=America/Los_Angeles:20260609T120000
DTSTAMP:20260421T021105
CREATED:20260409T175615Z
LAST-MODIFIED:20260409T175615Z
UID:1936-1781002800-1781006400@oregoncas.org
SUMMARY:[Virtual] Reporting Concerns of Child Abuse Training
DESCRIPTION:Learn about the dynamics and prevalence of child abuse as well as how to recognize and react responsibly when there’s reasonable suspicion.
URL:https://oregoncas.org/event/virtual-june9/
LOCATION:VIRTUAL
CATEGORIES:Free,Liberty House,Trainings,Virtual
END:VEVENT
BEGIN:VEVENT
DTSTART;TZID=America/Los_Angeles:20260611T173000
DTEND;TZID=America/Los_Angeles:20260611T183000
DTSTAMP:20260421T021105
CREATED:20260409T180321Z
LAST-MODIFIED:20260409T180321Z
UID:1940-1781199000-1781202600@oregoncas.org
SUMMARY:[Virtual] Denunciar Inquietudes de Abuso Infantil Training
DESCRIPTION:Aprenda de la prevalencia del abuso infantil\, así como cómo reconocer y reaccionar responsablemente cuando existe una sospecha razonable.
URL:https://oregoncas.org/event/virtual-june11/
LOCATION:VIRTUAL
CATEGORIES:en Español,Free,Liberty House,Trainings,Virtual
END:VEVENT
BEGIN:VEVENT
DTSTART;TZID=America/Los_Angeles:20260623T110000
DTEND;TZID=America/Los_Angeles:20260623T120000
DTSTAMP:20260421T021105
CREATED:20260409T181425Z
LAST-MODIFIED:20260409T181425Z
UID:1950-1782212400-1782216000@oregoncas.org
SUMMARY:[Virtual] Denunciar Inquietudes de Abuso Infantil Training
DESCRIPTION:Aprenda de la prevalencia del abuso infantil\, así como cómo reconocer y reaccionar responsablemente cuando existe una sospecha razonable.
URL:https://oregoncas.org/event/virtual-june23/
LOCATION:VIRTUAL
CATEGORIES:en Español,Free,Liberty House,Trainings,Virtual
END:VEVENT
BEGIN:VEVENT
DTSTART;TZID=America/Los_Angeles:20260625T173000
DTEND;TZID=America/Los_Angeles:20260625T183000
DTSTAMP:20260421T021105
CREATED:20260409T181823Z
LAST-MODIFIED:20260409T181823Z
UID:1956-1782408600-1782412200@oregoncas.org
SUMMARY:[Virtual] Reporting Concerns of Child Abuse Training
DESCRIPTION:Learn about the dynamics and prevalence of child abuse as well as how to recognize and react responsibly when there’s reasonable suspicion.
URL:https://oregoncas.org/event/virtual-june25/
LOCATION:VIRTUAL
CATEGORIES:Free,Liberty House,Trainings,Virtual
END:VEVENT
END:VCALENDAR