BEGIN:VCALENDAR
VERSION:2.0
PRODID:-//Oregon Child Abuse Solutions - ECPv6.15.18//NONSGML v1.0//EN
CALSCALE:GREGORIAN
METHOD:PUBLISH
X-ORIGINAL-URL:https://oregoncas.org
X-WR-CALDESC:Events for Oregon Child Abuse Solutions
REFRESH-INTERVAL;VALUE=DURATION:PT1H
X-Robots-Tag:noindex
X-PUBLISHED-TTL:PT1H
BEGIN:VTIMEZONE
TZID:America/Los_Angeles
BEGIN:DAYLIGHT
TZOFFSETFROM:-0800
TZOFFSETTO:-0700
TZNAME:PDT
DTSTART:20250309T100000
END:DAYLIGHT
BEGIN:STANDARD
TZOFFSETFROM:-0700
TZOFFSETTO:-0800
TZNAME:PST
DTSTART:20251102T090000
END:STANDARD
BEGIN:DAYLIGHT
TZOFFSETFROM:-0800
TZOFFSETTO:-0700
TZNAME:PDT
DTSTART:20260308T100000
END:DAYLIGHT
BEGIN:STANDARD
TZOFFSETFROM:-0700
TZOFFSETTO:-0800
TZNAME:PST
DTSTART:20261101T090000
END:STANDARD
BEGIN:DAYLIGHT
TZOFFSETFROM:-0800
TZOFFSETTO:-0700
TZNAME:PDT
DTSTART:20270314T100000
END:DAYLIGHT
BEGIN:STANDARD
TZOFFSETFROM:-0700
TZOFFSETTO:-0800
TZNAME:PST
DTSTART:20271107T090000
END:STANDARD
END:VTIMEZONE
BEGIN:VEVENT
DTSTART;TZID=America/Los_Angeles:20260217T173000
DTEND;TZID=America/Los_Angeles:20260217T183000
DTSTAMP:20260421T052217
CREATED:20260214T012542Z
LAST-MODIFIED:20260313T224033Z
UID:1537-1771349400-1771353000@oregoncas.org
SUMMARY:[Virtual] Teléfonos Celulares y Niños\, Mejores Prácticas Training
DESCRIPTION:Fomentar la autoestima\, promover opciones positivas en línea y construir relaciones seguras mientras navegan por el mundo digital.
URL:https://oregoncas.org/event/virtual-feb17/
LOCATION:VIRTUAL
CATEGORIES:en Español,Free,Liberty House,Trainings,Virtual
END:VEVENT
BEGIN:VEVENT
DTSTART;TZID=America/Los_Angeles:20260217T173000
DTEND;TZID=America/Los_Angeles:20260217T193000
DTSTAMP:20260421T052217
CREATED:20260131T195230Z
LAST-MODIFIED:20260221T215327Z
UID:1449-1771349400-1771356600@oregoncas.org
SUMMARY:[Redmond] Let's Talk About It Training
DESCRIPTION:Learn about ages and stages in childhood development and what you need to talk about with children and when.
URL:https://oregoncas.org/event/redmond-feb17/
LOCATION:Becky Johnson Community Center\, 412 SW 8th St\, Redmond\, OR\, 97756\, United States
CATEGORIES:Free,KIDS Center,Trainings
ORGANIZER;CN="KIDS Center":MAILTO:info@kidscenter.org
END:VEVENT
BEGIN:VEVENT
DTSTART;TZID=America/Los_Angeles:20260217T173000
DTEND;TZID=America/Los_Angeles:20260217T200000
DTSTAMP:20260421T052217
CREATED:20260131T195501Z
LAST-MODIFIED:20260221T215321Z
UID:1452-1771349400-1771358400@oregoncas.org
SUMMARY:[Madras] Stewards of Children Training
DESCRIPTION:Learn what you can do to prevent child sexual abuse.
URL:https://oregoncas.org/event/madras-feb17/
LOCATION:Jefferson County Health and Wellness Campus Community Room\, 500 NE A St\, Madras\, OR\, 97741\, United States
CATEGORIES:Free,KIDS Center,Trainings
ORGANIZER;CN="KIDS Center":MAILTO:info@kidscenter.org
END:VEVENT
END:VCALENDAR