BEGIN:VCALENDAR
VERSION:2.0
PRODID:-//Oregon Child Abuse Solutions - ECPv6.15.18//NONSGML v1.0//EN
CALSCALE:GREGORIAN
METHOD:PUBLISH
X-ORIGINAL-URL:https://oregoncas.org
X-WR-CALDESC:Events for Oregon Child Abuse Solutions
REFRESH-INTERVAL;VALUE=DURATION:PT1H
X-Robots-Tag:noindex
X-PUBLISHED-TTL:PT1H
BEGIN:VTIMEZONE
TZID:America/Los_Angeles
BEGIN:DAYLIGHT
TZOFFSETFROM:-0800
TZOFFSETTO:-0700
TZNAME:PDT
DTSTART:20250309T100000
END:DAYLIGHT
BEGIN:STANDARD
TZOFFSETFROM:-0700
TZOFFSETTO:-0800
TZNAME:PST
DTSTART:20251102T090000
END:STANDARD
BEGIN:DAYLIGHT
TZOFFSETFROM:-0800
TZOFFSETTO:-0700
TZNAME:PDT
DTSTART:20260308T100000
END:DAYLIGHT
BEGIN:STANDARD
TZOFFSETFROM:-0700
TZOFFSETTO:-0800
TZNAME:PST
DTSTART:20261101T090000
END:STANDARD
BEGIN:DAYLIGHT
TZOFFSETFROM:-0800
TZOFFSETTO:-0700
TZNAME:PDT
DTSTART:20270314T100000
END:DAYLIGHT
BEGIN:STANDARD
TZOFFSETFROM:-0700
TZOFFSETTO:-0800
TZNAME:PST
DTSTART:20271107T090000
END:STANDARD
END:VTIMEZONE
BEGIN:VEVENT
DTSTART;TZID=America/Los_Angeles:20260406T130000
DTEND;TZID=America/Los_Angeles:20260406T160000
DTSTAMP:20260421T033216
CREATED:20260214T013310Z
LAST-MODIFIED:20260310T020709Z
UID:1541-1775480400-1775491200@oregoncas.org
SUMMARY:[Virtual] Training for Youth-Serving Organizations
DESCRIPTION:This training gives youth‑serving organizations practical\, actionable strategies to strengthen protective practices\, reduce risk\, and create environments where abuse is far less likely to occur.
URL:https://oregoncas.org/event/virtual-apr6/
LOCATION:VIRTUAL
CATEGORIES:CARES Northwest,Trainings,Virtual
ORGANIZER;CN="CARES Northwest":MAILTO:caresnwadmin@lhs.org
END:VEVENT
END:VCALENDAR